{"text_format":"1","workbook":"xlsx","n_sheets":2,"sheets":["sequence of moves","Settings"],"not_rendered":{"charts":0,"images":1,"macros":1,"external_links":0,"defined_names":5,"comments":0,"pivot_tables":0},"unopened":[],"bounds":{"document_bytes":16777216,"sheet_cells":100000,"rows_first":2000,"rows_last":500,"rows_between":2000,"halvings":0,"cell_chars":16384,"cell_head_chars":4096},"cells_cut":0,"cells_raw":0,"read":"whole","date_system":"1900"}

{"sheet":"sequence of moves","index":0,"n_rows":24,"n_cols":16,"rows_kept":24,"cut":false,"hidden":false,"merged":[]}
[null,null,null,"Formation/Построение",null,null,null,null,null,null,null,null,null,"Round/Раунд","Unit/Юнит"]
[null,null,null,null,null,null,{"$f":"IF(Settings!B6=1,2,\"\")","v":2},null,{"$f":"CHOOSE(Settings!B6,4,\"\",7,\"\")","v":4},null,{"$f":"IF(Settings!B6=1,6,\"\")","v":6},null,null,{"$f":"Settings!L63","v":1},{"$f":"Settings!N63","v":2},{"$f":"Settings!M63","v":"D"}]
[null,null,null,null,null,null,null,{"$f":"CHOOSE(Settings!B6,\"\",2,2,\"\")","v":""},{"$f":"CHOOSE(Settings!B6,\"\",4,4,\"\")","v":""},{"$f":"CHOOSE(Settings!B6,\"\",6,6,\"\")","v":""},null,null,null,{"$f":"Settings!L64","v":2},{"$f":"Settings!N64","v":1},{"$f":"Settings!M64","v":"D"}]
[null,null,"DEFENSE/Оборона","Loose Formation/Свободная",null,{"$f":"CHOOSE(Settings!B6,1,\"\",\"\",\"\")","v":1},{"$f":"CHOOSE(Settings!B6,\"\",1,\"\",\"\")","v":""},{"$f":"CHOOSE(Settings!B6,3,3,1,\"\")","v":3},{"$f":"CHOOSE(Settings!B6,\"\",5,3,\"\")","v":""},{"$f":"CHOOSE(Settings!B6,5,7,5,\"\")","v":5},null,{"$f":"IF(Settings!B6=1,7,\"\")","v":7},null,{"$f":"Settings!L65","v":3},{"$f":"Settings!N65","v":4},{"$f":"Settings!M65","v":"D"}]
[1,"+",null,null,null,null,null,null,null,null,null,null,null,{"$f":"Settings!L66","v":4},{"$f":"Settings!N66","v":3},{"$f":"Settings!M66","v":"D"}]
[2,"+",null,null,null,null,null,null,null,null,null,null,null,{"$f":"Settings!L67","v":5},{"$f":"Settings!N67","v":6},{"$f":"Settings!M67","v":"D"}]
[3,"+",null,null,null,null,null,null,null,null,null,null,null,{"$f":"Settings!L68","v":6},{"$f":"Settings!N68","v":5},{"$f":"Settings!M68","v":"D"}]
[4,"+",null,null,null,null,null,null,null,null,null,null,null,{"$f":"Settings!L69","v":7},{"$f":"Settings!N69","v":7},{"$f":"Settings!M69","v":"D"}]
[5,"+",null,null,null,null,null,null,null,null,null,null,null,{"$f":"Settings!L70","v":""},{"$f":"Settings!N70","v":""},{"$f":"Settings!M70","v":""}]
[6,"+",null,null,null,null,null,null,null,null,null,null,null,{"$f":"Settings!L71","v":""},{"$f":"Settings!N71","v":""},{"$f":"Settings!M71","v":""}]
[7,"+",null,null,null,null,null,null,null,null,null,null,null,{"$f":"Settings!L72","v":""},{"$f":"Settings!N72","v":""},{"$f":"Settings!M72","v":""}]
[null,null,"ATTACK/Атака","Defense only/Только защищающиеся",null,{"$f":"CHOOSE(Settings!B7,1,\"\",\"\",\"\")","v":""},{"$f":"CHOOSE(Settings!B7,\"\",1,\"\",\"\")","v":""},{"$f":"CHOOSE(Settings!B7,3,3,1,\"\")","v":""},{"$f":"CHOOSE(Settings!B7,\"\",5,3,\"\")","v":""},{"$f":"CHOOSE(Settings!B7,5,7,5,\"\")","v":""},null,{"$f":"CHOOSE(Settings!B7,7,\"\",\"\",\"\")","v":""},null,{"$f":"Settings!L73","v":""},{"$f":"Settings!N73","v":""},{"$f":"Settings!M73","v":""}]
[null,null,null,null,null,null,{"$f":"CHOOSE(Settings!B7,\"\",2,\"\",\"\")","v":""},{"$f":"CHOOSE(Settings!B7,\"\",4,2,\"\")","v":""},{"$f":"CHOOSE(Settings!B7,\"\",6,4,\"\")","v":""},{"$f":"CHOOSE(Settings!B7,\"\",\"\",6,\"\")","v":""},null,null,null,{"$f":"Settings!L74","v":""},{"$f":"Settings!N74","v":""},{"$f":"Settings!M74","v":""}]
[1,"-",null,null,null,null,{"$f":"CHOOSE(Settings!B7,2,\"\",\"\",\"\")","v":""},null,{"$f":"CHOOSE(Settings!B7,4,\"\",7,\"\")","v":""},null,{"$f":"CHOOSE(Settings!B7,6,\"\",\"\",\"\")","v":""},null,null,{"$f":"Settings!L75","v":""},{"$f":"Settings!N75","v":""},{"$f":"Settings!M75","v":""}]
[2,"-",null,null,null,null,null,null,null,null,null,null,null,{"$f":"Settings!L76","v":""},{"$f":"Settings!N76","v":""},{"$f":"Settings!M76","v":""}]
[3,"-"]
[4,"-"]
[5,"-"]
[6,"-"]
[7,"-"]
[null,null,null,null,null,1,2,3,4,5,6,7]
[null,null,null,"Loose Formation/Свободная"]
[null,null,null,"Tight Formation/Плотная"]
[null,null,null,"Square Formation/Каре"]

{"sheet":"Settings","index":1,"n_rows":76,"n_cols":24,"rows_kept":76,"cut":false,"hidden":false,"merged":[]}
[null,null,null,null,null,"DEF","ATT","Round","A/D","RinT","NN","ID","NUM","VISIBLE","RoundInS","NumInS",null,null,"№R_AF","№R","AF","A","NUM","VISIBLE"]
[null,null,null,null,null,{"$f":"$B$6","v":1},{"$f":"$B$7","v":4},{"$f":"IF(AND($B$6=4,$B$7=4),\"\",1)","v":1},{"$f":"IF(H2<>\"\",IF($B$7=4,\"D\",\"A\"),\"\")","v":"D"},{"$f":"IF(H2<>\"\",IF(OR($B$6=4,$B$7=4),H2,(H2+1)/2),\"\")","v":1},{"$f":"IF(I2=\"A\",G2,IF(I2=\"D\",F2,\"\"))","v":1},{"$f":"CONCATENATE(J2,K2,I2)","v":"11D"},{"$f":"VLOOKUP(L2,S:W,5,FALSE)","v":2},{"$f":"VLOOKUP(L2,S:X,6,FALSE)","v":1},{"$f":"IF(N2=0,\"\",H2)","v":1},{"$f":"IF(N2=0,\"\",M2)","v":2},null,null,{"$f":"CONCATENATE(T2,U2,V2)","v":"11A"},1,1,"A",1,{"$f":"IF(OR($B$7=4,VLOOKUP(W2,'sequence of moves'!$A$14:$B$20,2,FALSE)=\"-\"),0,1)","v":0}]
[null,null,null,null,null,{"$f":"$B$6","v":1},{"$f":"$B$7","v":4},{"$f":"IF(AND($B$6=4,$B$7=4),\"\",2)","v":2},{"$f":"IF(H3<>\"\",IF($B$6=4,\"A\",\"D\"),\"\")","v":"D"},{"$f":"IF(H3<>\"\",IF(OR($B$6=4,$B$7=4),H3,H3/2),\"\")","v":2},{"$f":"IF(I3=\"A\",G3,IF(I3=\"D\",F3,\"\"))","v":1},{"$f":"CONCATENATE(J3,K3,I3)","v":"21D"},1,1,{"$f":"IF(N3=0,\"\",H3)","v":2},{"$f":"IF(N3=0,\"\",M3)","v":1},null,null,{"$f":"CONCATENATE(T3,U3,V3)","v":"21A"},2,1,"A",3,{"$f":"IF(OR($B$7=4,VLOOKUP(W3,'sequence of moves'!$A$14:$B$20,2,FALSE)=\"-\"),0,1)","v":0}]
[null,null,null,null,null,1,4,{"$f":"IF(AND($B$6=4,$B$7=4),\"\",3)","v":3},{"$f":"IF(H4<>\"\",IF($B$7=4,\"D\",\"A\"),\"\")","v":"D"},{"$f":"IF(H4<>\"\",IF(OR($B$6=4,$B$7=4),H4,(H4+1)/2),\"\")","v":3},1,"31D",4,1,3,4,null,null,"31A",3,1,"A",2,{"$f":"IF(OR($B$7=4,VLOOKUP(W4,'sequence of moves'!$A$14:$B$20,2,FALSE)=\"-\"),0,1)","v":0}]
[null,null,null,null,null,1,4,{"$f":"IF(AND($B$6=4,$B$7=4),\"\",4)","v":4},{"$f":"IF(H5<>\"\",IF($B$6=4,\"A\",\"D\"),\"\")","v":"D"},{"$f":"IF(H5<>\"\",IF(OR($B$6=4,$B$7=4),H5,H5/2),\"\")","v":4},1,"41D",3,1,4,3,null,null,"41A",4,1,"A",5,{"$f":"IF(OR($B$7=4,VLOOKUP(W5,'sequence of moves'!$A$14:$B$20,2,FALSE)=\"-\"),0,1)","v":0}]
["DEF",{"$f":"VLOOKUP('sequence of moves'!D4,FormationDef,2,FALSE)","v":1},null,null,null,1,4,{"$f":"IF(AND($B$6=4,$B$7=4),\"\",5)","v":5},{"$f":"IF(H6<>\"\",IF($B$7=4,\"D\",\"A\"),\"\")","v":"D"},{"$f":"IF(H6<>\"\",IF(OR($B$6=4,$B$7=4),H6,(H6+1)/2),\"\")","v":5},1,"51D",6,1,5,6,null,null,"51A",5,1,"A",4,{"$f":"IF(OR($B$7=4,VLOOKUP(W6,'sequence of moves'!$A$14:$B$20,2,FALSE)=\"-\"),0,1)","v":0}]
["ATT",{"$f":"VLOOKUP('sequence of moves'!D12,FormayionAtt,2,FALSE)","v":4},null,null,null,1,4,{"$f":"IF(AND($B$6=4,$B$7=4),\"\",6)","v":6},{"$f":"IF(H7<>\"\",IF($B$6=4,\"A\",\"D\"),\"\")","v":"D"},{"$f":"IF(H7<>\"\",IF(OR($B$6=4,$B$7=4),H7,H7/2),\"\")","v":6},1,"61D",5,1,6,5,null,null,"61A",6,1,"A",7,{"$f":"IF(OR($B$7=4,VLOOKUP(W7,'sequence of moves'!$A$14:$B$20,2,FALSE)=\"-\"),0,1)","v":0}]
[null,{"$f":"CONCATENATE(B6,B7)","v":"14"},null,null,null,1,4,{"$f":"IF(AND($B$6=4,$B$7=4),\"\",7)","v":7},{"$f":"IF(H8<>\"\",IF($B$7=4,\"D\",\"A\"),\"\")","v":"D"},{"$f":"IF(H8<>\"\",IF(OR($B$6=4,$B$7=4),H8,(H8+1)/2),\"\")","v":7},1,"71D",7,1,7,7,null,null,"71A",7,1,"A",6,{"$f":"IF(OR($B$7=4,VLOOKUP(W8,'sequence of moves'!$A$14:$B$20,2,FALSE)=\"-\"),0,1)","v":0}]
[null,null,null,null,null,1,4,{"$f":"IF(OR($B$6=4,$B$7=4),\"\",8)","v":""},{"$f":"IF(H9<>\"\",IF($B$6=4,\"A\",\"D\"),\"\")","v":""},{"$f":"IF(H9<>\"\",IF(OR($B$6=4,$B$7=4),H9,H9/2),\"\")","v":""},"","",{"$error":"#N/A"},{"$error":"#N/A"},{"$error":"#N/A"},{"$error":"#N/A"},null,null,"12A",1,2,"A",1,{"$f":"IF(OR($B$7=4,VLOOKUP(W9,'sequence of moves'!$A$14:$B$20,2,FALSE)=\"-\"),0,1)","v":0}]
[null,null,null,null,null,1,4,{"$f":"IF(OR($B$6=4,$B$7=4),\"\",9)","v":""},{"$f":"IF(H10<>\"\",IF($B$7=4,\"D\",\"A\"),\"\")","v":""},{"$f":"IF(H10<>\"\",IF(OR($B$6=4,$B$7=4),H10,(H10+1)/2),\"\")","v":""},"","",{"$error":"#N/A"},{"$error":"#N/A"},{"$error":"#N/A"},{"$error":"#N/A"},null,null,"22A",2,2,"A",3,{"$f":"IF(OR($B$7=4,VLOOKUP(W10,'sequence of moves'!$A$14:$B$20,2,FALSE)=\"-\"),0,1)","v":0}]
[null,null,null,null,null,1,4,{"$f":"IF(OR($B$6=4,$B$7=4),\"\",10)","v":""},{"$f":"IF(H11<>\"\",IF($B$6=4,\"A\",\"D\"),\"\")","v":""},{"$f":"IF(H11<>\"\",IF(OR($B$6=4,$B$7=4),H11,H11/2),\"\")","v":""},"","",{"$error":"#N/A"},{"$error":"#N/A"},{"$error":"#N/A"},{"$error":"#N/A"},null,null,"32A",3,2,"A",2,{"$f":"IF(OR($B$7=4,VLOOKUP(W11,'sequence of moves'!$A$14:$B$20,2,FALSE)=\"-\"),0,1)","v":0}]
["Loose Formation/Свободная",1,null,null,null,1,4,{"$f":"IF(OR($B$6=4,$B$7=4),\"\",11)","v":""},{"$f":"IF(H12<>\"\",IF($B$7=4,\"D\",\"A\"),\"\")","v":""},{"$f":"IF(H12<>\"\",IF(OR($B$6=4,$B$7=4),H12,(H12+1)/2),\"\")","v":""},"","",{"$error":"#N/A"},{"$error":"#N/A"},{"$error":"#N/A"},{"$error":"#N/A"},null,null,"42A",4,2,"A",5,{"$f":"IF(OR($B$7=4,VLOOKUP(W12,'sequence of moves'!$A$14:$B$20,2,FALSE)=\"-\"),0,1)","v":0}]
["Tight Formation/Плотная",2,null,null,null,1,4,{"$f":"IF(OR($B$6=4,$B$7=4),\"\",12)","v":""},{"$f":"IF(H13<>\"\",IF($B$6=4,\"A\",\"D\"),\"\")","v":""},{"$f":"IF(H13<>\"\",IF(OR($B$6=4,$B$7=4),H13,H13/2),\"\")","v":""},"","",{"$error":"#N/A"},{"$error":"#N/A"},{"$error":"#N/A"},{"$error":"#N/A"},null,null,"52A",5,2,"A",4,{"$f":"IF(OR($B$7=4,VLOOKUP(W13,'sequence of moves'!$A$14:$B$20,2,FALSE)=\"-\"),0,1)","v":0}]
["Square Formation/Каре",3,null,null,null,1,4,{"$f":"IF(OR($B$6=4,$B$7=4),\"\",13)","v":""},{"$f":"IF(H14<>\"\",IF($B$7=4,\"D\",\"A\"),\"\")","v":""},{"$f":"IF(H14<>\"\",IF(OR($B$6=4,$B$7=4),H14,(H14+1)/2),\"\")","v":""},"","",{"$error":"#N/A"},{"$error":"#N/A"},{"$error":"#N/A"},{"$error":"#N/A"},null,null,"62A",6,2,"A",7,{"$f":"IF(OR($B$7=4,VLOOKUP(W14,'sequence of moves'!$A$14:$B$20,2,FALSE)=\"-\"),0,1)","v":0}]
["Attack only/Только Атакующие",4,null,null,null,1,4,{"$f":"IF(OR($B$6=4,$B$7=4),\"\",14)","v":""},{"$f":"IF(H15<>\"\",IF($B$6=4,\"A\",\"D\"),\"\")","v":""},{"$f":"IF(H15<>\"\",IF(OR($B$6=4,$B$7=4),H15,H15/2),\"\")","v":""},"","",{"$error":"#N/A"},{"$error":"#N/A"},{"$error":"#N/A"},{"$error":"#N/A"},null,null,"72A",7,2,"A",6,{"$f":"IF(OR($B$7=4,VLOOKUP(W15,'sequence of moves'!$A$14:$B$20,2,FALSE)=\"-\"),0,1)","v":0}]
[null,null,null,null,null,null,null,null,null,null,null,null,null,null,null,null,null,null,"13A",1,3,"A",1,{"$f":"IF(OR($B$7=4,VLOOKUP(W16,'sequence of moves'!$A$14:$B$20,2,FALSE)=\"-\"),0,1)","v":0}]
["Loose Formation/Свободная",1,null,null,null,null,null,null,null,null,null,null,null,null,null,null,null,null,"23A",2,3,"A",2,{"$f":"IF(OR($B$7=4,VLOOKUP(W17,'sequence of moves'!$A$14:$B$20,2,FALSE)=\"-\"),0,1)","v":0}]
["Tight Formation/Плотная",2,null,null,null,"+",1,null,null,null,null,null,null,null,null,null,null,null,"33A",3,3,"A",3,{"$f":"IF(OR($B$7=4,VLOOKUP(W18,'sequence of moves'!$A$14:$B$20,2,FALSE)=\"-\"),0,1)","v":0}]
["Square Formation/Каре",3,null,null,null,"-",0,null,null,null,null,null,null,null,null,null,null,null,"43A",4,3,"A",4,{"$f":"IF(OR($B$7=4,VLOOKUP(W19,'sequence of moves'!$A$14:$B$20,2,FALSE)=\"-\"),0,1)","v":0}]
["Defense only/Только защищающиеся",4,null,null,null,null,null,null,null,null,null,null,null,null,null,null,null,null,"53A",5,3,"A",5,{"$f":"IF(OR($B$7=4,VLOOKUP(W20,'sequence of moves'!$A$14:$B$20,2,FALSE)=\"-\"),0,1)","v":0}]
[null,null,null,null,null,null,null,null,null,null,null,null,null,null,null,null,null,null,"63A",6,3,"A",6,{"$f":"IF(OR($B$7=4,VLOOKUP(W21,'sequence of moves'!$A$14:$B$20,2,FALSE)=\"-\"),0,1)","v":0}]
[null,null,null,null,"ALL ATTACK",null,null,null,null,null,null,null,null,null,null,null,null,null,"73A",7,3,"A",7,{"$f":"IF(OR($B$7=4,VLOOKUP(W22,'sequence of moves'!$A$14:$B$20,2,FALSE)=\"-\"),0,1)","v":0}]
[null,null,null,null,null,null,null,null,null,null,null,null,null,null,null,null,null,null,"11D",1,1,"D",2,{"$f":"IF(OR($B$6=4,VLOOKUP(W23,'sequence of moves'!$A$5:$B$11,2,FALSE)=\"-\"),0,1)","v":1}]
[null,null,null,null,null,"ATT","Round","A/D","ID","NUM","VISIBLE",null,null,null,null,null,null,null,"21D",2,1,"D",1,{"$f":"IF(OR($B$6=4,VLOOKUP(W24,'sequence of moves'!$A$5:$B$11,2,FALSE)=\"-\"),0,1)","v":1}]
[null,null,null,null,null,{"$f":"$B$7","v":4},{"$f":"IF(AND($B$6=4,$B$7=4),\"\",1)","v":1},"A",{"$f":"CONCATENATE(G25,F25,H25)","v":"14A"},{"$f":"VLOOKUP(I25,S:W,5,FALSE)","v":{"$error":"#N/A"}},{"$f":"VLOOKUP(I25,S:X,6,FALSE)","v":{"$error":"#N/A"}},null,null,null,null,null,null,null,"31D",3,1,"D",4,{"$f":"IF(OR($B$6=4,VLOOKUP(W25,'sequence of moves'!$A$5:$B$11,2,FALSE)=\"-\"),0,1)","v":1}]
[null,null,null,null,null,{"$f":"$B$7","v":4},{"$f":"IF(AND($B$6=4,$B$7=4),\"\",2)","v":2},"A",{"$f":"CONCATENATE(G26,F26,H26)","v":"24A"},{"$error":"#N/A"},{"$error":"#N/A"},null,null,null,null,null,null,null,"41D",4,1,"D",3,{"$f":"IF(OR($B$6=4,VLOOKUP(W26,'sequence of moves'!$A$5:$B$11,2,FALSE)=\"-\"),0,1)","v":1}]
[null,null,null,null,null,4,{"$f":"IF(AND($B$6=4,$B$7=4),\"\",3)","v":3},"A","34A",{"$error":"#N/A"},{"$error":"#N/A"},null,null,null,null,null,null,null,"51D",5,1,"D",6,{"$f":"IF(OR($B$6=4,VLOOKUP(W27,'sequence of moves'!$A$5:$B$11,2,FALSE)=\"-\"),0,1)","v":1}]
[null,null,null,null,null,4,{"$f":"IF(AND($B$6=4,$B$7=4),\"\",4)","v":4},"A","44A",{"$error":"#N/A"},{"$error":"#N/A"},null,null,null,null,null,null,null,"61D",6,1,"D",5,{"$f":"IF(OR($B$6=4,VLOOKUP(W28,'sequence of moves'!$A$5:$B$11,2,FALSE)=\"-\"),0,1)","v":1}]
[null,null,null,null,null,4,{"$f":"IF(AND($B$6=4,$B$7=4),\"\",5)","v":5},"A","54A",{"$error":"#N/A"},{"$error":"#N/A"},null,null,null,null,null,null,null,"71D",7,1,"D",7,{"$f":"IF(OR($B$6=4,VLOOKUP(W29,'sequence of moves'!$A$5:$B$11,2,FALSE)=\"-\"),0,1)","v":1}]
[null,null,null,null,null,4,{"$f":"IF(AND($B$6=4,$B$7=4),\"\",6)","v":6},"A","64A",{"$error":"#N/A"},{"$error":"#N/A"},null,null,null,null,null,null,null,"12D",1,2,"D",2,{"$f":"IF(OR($B$6=4,VLOOKUP(W30,'sequence of moves'!$A$5:$B$11,2,FALSE)=\"-\"),0,1)","v":1}]
[null,null,null,null,null,4,{"$f":"IF(AND($B$6=4,$B$7=4),\"\",7)","v":7},"A","74A",{"$error":"#N/A"},{"$error":"#N/A"},null,null,null,null,null,null,null,"22D",2,2,"D",4,{"$f":"IF(OR($B$6=4,VLOOKUP(W31,'sequence of moves'!$A$5:$B$11,2,FALSE)=\"-\"),0,1)","v":1}]
[null,null,null,null,null,null,null,null,null,null,null,null,null,null,null,null,null,null,"32D",3,2,"D",1,{"$f":"IF(OR($B$6=4,VLOOKUP(W32,'sequence of moves'!$A$5:$B$11,2,FALSE)=\"-\"),0,1)","v":1}]
[null,null,null,null,"ALL DEF",null,null,null,null,null,null,null,null,null,null,null,null,null,"42D",4,2,"D",6,{"$f":"IF(OR($B$6=4,VLOOKUP(W33,'sequence of moves'!$A$5:$B$11,2,FALSE)=\"-\"),0,1)","v":1}]
[null,null,null,null,null,"ATT","Round","A/D","ID","NUM","VISIBLE",null,null,null,null,null,null,null,"52D",5,2,"D",3,{"$f":"IF(OR($B$6=4,VLOOKUP(W34,'sequence of moves'!$A$5:$B$11,2,FALSE)=\"-\"),0,1)","v":1}]
[null,null,null,null,null,{"$f":"$B$6","v":1},{"$f":"IF(AND($B$6=4,$B$7=4),\"\",1)","v":1},"D",{"$f":"CONCATENATE(G35,F35,H35)","v":"11D"},{"$f":"VLOOKUP(I35,S:W,5,FALSE)","v":2},{"$f":"VLOOKUP(I35,S:X,6,FALSE)","v":1},null,null,null,null,null,null,null,"62D",6,2,"D",5,{"$f":"IF(OR($B$6=4,VLOOKUP(W35,'sequence of moves'!$A$5:$B$11,2,FALSE)=\"-\"),0,1)","v":1}]
[null,null,null,null,null,{"$f":"$B$6","v":1},{"$f":"IF(AND($B$6=4,$B$7=4),\"\",2)","v":2},"D",{"$f":"CONCATENATE(G36,F36,H36)","v":"21D"},1,1,null,null,null,null,null,null,null,"72D",7,2,"D",7,{"$f":"IF(OR($B$6=4,VLOOKUP(W36,'sequence of moves'!$A$5:$B$11,2,FALSE)=\"-\"),0,1)","v":1}]
[null,null,null,null,null,1,{"$f":"IF(AND($B$6=4,$B$7=4),\"\",3)","v":3},"D","31D",4,1,null,null,null,null,null,null,null,"13D",1,3,"D",7,{"$f":"IF(OR($B$6=4,VLOOKUP(W37,'sequence of moves'!$A$5:$B$11,2,FALSE)=\"-\"),0,1)","v":1}]
[null,null,null,null,null,1,{"$f":"IF(AND($B$6=4,$B$7=4),\"\",4)","v":4},"D","41D",3,1,null,null,null,null,null,null,null,"23D",2,3,"D",2,{"$f":"IF(OR($B$6=4,VLOOKUP(W38,'sequence of moves'!$A$5:$B$11,2,FALSE)=\"-\"),0,1)","v":1}]
[null,null,null,null,null,1,{"$f":"IF(AND($B$6=4,$B$7=4),\"\",5)","v":5},"D","51D",6,1,null,null,null,null,null,null,null,"33D",3,3,"D",1,{"$f":"IF(OR($B$6=4,VLOOKUP(W39,'sequence of moves'!$A$5:$B$11,2,FALSE)=\"-\"),0,1)","v":1}]
[null,null,null,null,null,1,{"$f":"IF(AND($B$6=4,$B$7=4),\"\",6)","v":6},"D","61D",5,1,null,null,null,null,null,null,null,"43D",4,3,"D",4,{"$f":"IF(OR($B$6=4,VLOOKUP(W40,'sequence of moves'!$A$5:$B$11,2,FALSE)=\"-\"),0,1)","v":1}]
[null,null,null,null,null,1,{"$f":"IF(AND($B$6=4,$B$7=4),\"\",7)","v":7},"D","71D",7,1,null,null,null,null,null,null,null,"53D",5,3,"D",3,{"$f":"IF(OR($B$6=4,VLOOKUP(W41,'sequence of moves'!$A$5:$B$11,2,FALSE)=\"-\"),0,1)","v":1}]
[null,null,null,null,null,null,null,null,null,null,null,null,null,null,null,null,null,null,"63D",6,3,"D",6,{"$f":"IF(OR($B$6=4,VLOOKUP(W42,'sequence of moves'!$A$5:$B$11,2,FALSE)=\"-\"),0,1)","v":1}]
[null,null,null,null,null,null,null,null,null,null,null,null,null,null,null,null,null,null,"73D",7,3,"D",5,{"$f":"IF(OR($B$6=4,VLOOKUP(W43,'sequence of moves'!$A$5:$B$11,2,FALSE)=\"-\"),0,1)","v":1}]
[null,null,null,null,"ALL UNITS"]
[null,null,null,null,null,null,"Round",null,"Позиция ","Номер строки","NUM","NULL"]
[null,null,null,null,null,null,1,"A",{"$f":"IFERROR(MATCH(1,K25:K31,0),0)","v":0},{"$f":"I46+24","v":24},{"$f":"INDIRECT(\"J\"&J46)","v":"NUM"},{"$f":"IF(OR(I46=0,K46=0),0,1)","v":0}]
[null,null,null,null,null,null,2,"D",{"$f":"IFERROR(MATCH(1,K35:K41,0),0)","v":1},{"$f":"I47+34","v":35},2,{"$f":"IF(OR(I47=0,K47=0),0,1)","v":1}]
[null,null,null,null,null,null,3,"A",{"$f":"IF(AND(J46>0,J46<31),IFERROR(MATCH(1,INDIRECT(\"K\"&J46+1&\":K31\"),0),0),0)","v":0},{"$f":"IF(I48=0,0,J46+I48)","v":0},{"$error":"#REF!"},{"$error":"#REF!"}]
[null,null,null,null,null,null,4,"D",{"$f":"IF(AND(J47>0,J47<41),IFERROR(MATCH(1,INDIRECT(\"K\"& J47+1 &\":K41\"),0),0),0)","v":1},36,1,1]
[null,null,null,null,null,null,5,"A",{"$f":"IF(AND(J48>0,J48<31),IFERROR(MATCH(1,INDIRECT(\"K\"&J48+1&\":K31\"),0),0),0)","v":0},0,{"$error":"#REF!"},{"$error":"#REF!"}]
[null,null,null,null,null,null,6,"D",{"$f":"IF(AND(J49>0,J49<41),IFERROR(MATCH(1,INDIRECT(\"K\"& J49+1 &\":K41\"),0),0),0)","v":1},37,4,1]
[null,null,null,null,null,null,7,"A",{"$f":"IF(AND(J50>0,J50<31),IFERROR(MATCH(1,INDIRECT(\"K\"&J50+1&\":K31\"),0),0),0)","v":0},0,{"$error":"#REF!"},{"$error":"#REF!"}]
[null,null,null,null,null,null,8,"D",{"$f":"IF(AND(J51>0,J51<41),IFERROR(MATCH(1,INDIRECT(\"K\"& J51+1 &\":K41\"),0),0),0)","v":1},38,3,1]
[null,null,null,null,null,null,9,"A",{"$f":"IF(AND(J52>0,J52<31),IFERROR(MATCH(1,INDIRECT(\"K\"&J52+1&\":K31\"),0),0),0)","v":0},0,{"$error":"#REF!"},{"$error":"#REF!"}]
[null,null,null,null,null,null,10,"D",{"$f":"IF(AND(J53>0,J53<41),IFERROR(MATCH(1,INDIRECT(\"K\"& J53+1 &\":K41\"),0),0),0)","v":1},39,6,1]
[null,null,null,null,null,null,11,"A",{"$f":"IF(AND(J54>0,J54<31),IFERROR(MATCH(1,INDIRECT(\"K\"&J54+1&\":K31\"),0),0),0)","v":0},0,{"$error":"#REF!"},{"$error":"#REF!"}]
[null,null,null,null,null,null,12,"D",{"$f":"IF(AND(J55>0,J55<41),IFERROR(MATCH(1,INDIRECT(\"K\"& J55+1 &\":K41\"),0),0),0)","v":1},40,5,1]
[null,null,null,null,null,null,13,"A",{"$f":"IF(AND(J56>0,J56<31),IFERROR(MATCH(1,INDIRECT(\"K\"&J56+1&\":K31\"),0),0),0)","v":0},0,{"$error":"#REF!"},{"$error":"#REF!"}]
[null,null,null,null,null,null,14,"D",{"$f":"IF(AND(J57>0,J57<41),IFERROR(MATCH(1,INDIRECT(\"K\"& J57+1 &\":K41\"),0),0),0)","v":1},41,7,1]
[]
[null,null,null,null,"ALL TO SCREEN"]
[null,null,null,null,null,null,"Round","Позиция ","Номер строки","NUM",null,"RoundScreen","AF_Screen","NUM_Screen"]
[null,null,null,null,null,null,1,{"$f":"IFERROR(MATCH(1,L46:L59,0),0)","v":2},{"$f":"H63+45","v":47},{"$f":"INDIRECT(\"H\"&I63)","v":"D"},{"$f":"INDIRECT(\"K\"&I63)","v":2},{"$f":"IF($H63>0,G63,\"\")","v":1},{"$f":"IF($H63>0,J63,\"\")","v":"D"},{"$f":"IF($H63>0,K63,\"\")","v":2}]
[null,null,null,null,null,null,2,{"$f":"IF(I63<59,IFERROR(MATCH(1,INDIRECT(\"L\"& I63+1 &\":L59\"),0),0),0)","v":2},{"$f":"I63+H64","v":49},{"$f":"INDIRECT(\"H\"&I64)","v":"D"},{"$f":"INDIRECT(\"K\"&I64)","v":1},{"$f":"IF($H64>0,G64,\"\")","v":2},{"$f":"IF($H64>0,J64,\"\")","v":"D"},{"$f":"IF($H64>0,K64,\"\")","v":1}]
[null,null,null,null,null,null,3,{"$f":"IF(I64<59,IFERROR(MATCH(1,INDIRECT(\"L\"& I64+1 &\":L59\"),0),0),0)","v":2},{"$f":"I64+H65","v":51},{"$f":"INDIRECT(\"H\"&I65)","v":"D"},{"$f":"INDIRECT(\"K\"&I65)","v":4},3,"D",4]
[null,null,null,null,null,null,4,2,53,"D",3,4,"D",3]
[null,null,null,null,null,null,5,2,55,"D",6,5,"D",6]
[null,null,null,null,null,null,6,2,57,"D",5,6,"D",5]
[null,null,null,null,null,null,7,2,59,"D",7,7,"D",7]
[null,null,null,null,null,null,8,0,59,"D",7,"","",""]
[null,null,null,null,null,null,9,0,59,"D",7,"","",""]
[null,null,null,null,null,null,10,0,59,"D",7,"","",""]
[null,null,null,null,null,null,11,0,59,"D",7,"","",""]
[null,null,null,null,null,null,12,0,59,"D",7,"","",""]
[null,null,null,null,null,null,13,0,59,"D",7,"","",""]
[null,null,null,null,null,null,14,0,59,"D",7,"","",""]